Workbook

Sheet 信用交易
A1: 融资融券市场交易数据统计(20261029)
A2: 标的证券 | B2: 融资融券余额（亿元） | C2: 融资余额（亿元） | D2: 融券余额（亿元） | E2: 融资买入额（亿元） | F2: 融资融券规模变化（亿元） | G2: 融资余额增幅(‰) | H2: 融券余额增幅(%)
A3: 统计数据 | B3: 23849.608 | C3: 23567.382 | D3: 282.22572 | E3: 1185.7804 | F3: -270.80666 | G3: -11.028235 | H3: -2.7570623
A16: 标的股票比较指标 | C16: 融资余额/流通A股市值(%) | D16: 融资余额增幅(%) | E16: 融资买入额/成交金额(%) | F16: （融资余额净增额-融券余额净增额）/流通A股市值(‱) | G16: 融券余额降幅(%) | H16: ABS[（融资余额净增额-融券余额净增额）/流通A股市值净增额-1](%)
A17: 前十名标的个股 | C17: =[1]前十后十处理!O23 -> 天马科技 | D17: =[1]前十后十处理!P23 -> 襄阳轴承 | E17: =[1]前十后十处理!Q23 -> 金道科技 | F17: =[1]前十后十处理!R23 -> 襄阳轴承 | G17: =[1]前十后十处理!S23 -> 齐峰新材 | H17: =[1]前十后十处理!T23 -> 新华传媒
C18: =[1]前十后十处理!O24 -> 锴威特 | D18: =[1]前十后十处理!P24 -> 朗信电气 | E18: =[1]前十后十处理!Q24 -> 吉贝尔 | F18: =[1]前十后十处理!R24 -> 朗信电气 | G18: =[1]前十后十处理!S24 -> 永贵电器 | H18: =[1]前十后十处理!T24 -> 世纪恒通
C19: =[1]前十后十处理!O25 -> 禾望电气 | D19: =[1]前十后十处理!P25 -> 海阳科技 | E19: =[1]前十后十处理!Q25 -> 景业智能 | F19: =[1]前十后十处理!R25 -> 力聚热能 | G19: =[1]前十后十处理!S25 -> 英诺激光 | H19: =[1]前十后十处理!T25 -> 成都先导
C20: =[1]前十后十处理!O26 -> 信凯科技 | D20: =[1]前十后十处理!P26 -> 莫森泰克 | E20: =[1]前十后十处理!Q26 -> 佐力药业 | F20: =[1]前十后十处理!R26 -> 冰山冷热 | G20: =[1]前十后十处理!S26 -> 迈普医学 | H20: =[1]前十后十处理!T26 -> 中远通
C21: =[1]前十后十处理!O27 -> 华灿光电 | D21: =[1]前十后十处理!P27 -> 花溪科技 | E21: =[1]前十后十处理!Q27 -> 华泰股份 | F21: =[1]前十后十处理!R27 -> 金道科技 | G21: =[1]前十后十处理!S27 -> 华兰股份 | H21: =[1]前十后十处理!T27 -> 宣亚国际
C22: =[1]前十后十处理!O28 -> 思泰克 | D22: =[1]前十后十处理!P28 -> 太湖雪 | E22: =[1]前十后十处理!Q28 -> 赛微微电 | F22: =[1]前十后十处理!R28 -> 宇晶股份 | G22: =[1]前十后十处理!S28 -> 神工股份 | H22: =[1]前十后十处理!T28 -> 乖宝宠物
C23: =[1]前十后十处理!O29 -> 西山科技 | D23: =[1]前十后十处理!P29 -> 冰山冷热 | E23: =[1]前十后十处理!Q29 -> 华菱钢铁 | F23: =[1]前十后十处理!R29 -> 海安集团 | G23: =[1]前十后十处理!S29 -> 华宏科技 | H23: =[1]前十后十处理!T29 -> 百奥赛图
C24: =[1]前十后十处理!O30 -> 飞南资源 | D24: =[1]前十后十处理!P30 -> 杰克科技 | E24: =[1]前十后十处理!Q30 -> 新开源 | F24: =[1]前十后十处理!R30 -> 科瑞思 | G24: =[1]前十后十处理!S30 -> 天元智能 | H24: =[1]前十后十处理!T30 -> 深水海纳
C25: =[1]前十后十处理!O31 -> 创益通 | D25: =[1]前十后十处理!P31 -> 珈凯生物 | E25: =[1]前十后十处理!Q31 -> 继峰股份 | F25: =[1]前十后十处理!R31 -> 海阳科技 | G25: =[1]前十后十处理!S31 -> 新时达 | H25: =[1]前十后十处理!T31 -> 招标股份
C26: =[1]前十后十处理!O32 -> 兴民智通 | D26: =[1]前十后十处理!P32 -> 富瀚微 | E26: =[1]前十后十处理!Q32 -> 鼎龙科技 | F26: =[1]前十后十处理!R32 -> 飞沃科技 | G26: =[1]前十后十处理!S32 -> 威尔高 | H26: =[1]前十后十处理!T32 -> 片仔癀
A27: 后十名标的个股 | C27: =[1]前十后十处理!O33 -> 华电能源 | D27: =[1]前十后十处理!P33 -> 宇特光电 | E27: =[1]前十后十处理!Q33 -> 派特尔 | F27: =[1]前十后十处理!R33 -> 世纪恒通 | G27: =[1]前十后十处理!S33 -> 威腾电气 | H27: =[1]前十后十处理!T33 -> 吉贝尔
C28: =[1]前十后十处理!O34 -> 农业银行 | D28: =[1]前十后十处理!P34 -> 掌阅科技 | E28: =[1]前十后十处理!Q34 -> 齐鲁华信 | F28: =[1]前十后十处理!R34 -> 元创股份 | G28: =[1]前十后十处理!S34 -> 首都在线 | H28: =[1]前十后十处理!T34 -> 时代电气
C29: =[1]前十后十处理!O35 -> 中国石油 | D29: =[1]前十后十处理!P35 -> 世纪恒通 | E29: =[1]前十后十处理!Q35 -> 春光智能 | F29: =[1]前十后十处理!R35 -> 格林生物 | G29: =[1]前十后十处理!S35 -> 新亚电子 | H29: =[1]前十后十处理!T35 -> 新光光电
C30: =[1]前十后十处理!O36 -> 中国神华 | D30: =[1]前十后十处理!P36 -> 燧原科技 | E30: =[1]前十后十处理!Q36 -> 保丽洁 | F30: =[1]前十后十处理!R36 -> 燧原科技 | G30: =[1]前十后十处理!S36 -> 浙江华远 | H30: =[1]前十后十处理!T36 -> 博迈科
C31: =[1]前十后十处理!O37 -> 中信银行 | D31: =[1]前十后十处理!P37 -> 格利尔 | E31: =[1]前十后十处理!Q37 -> 瑞星股份 | F31: =[1]前十后十处理!R37 -> 鸿富诚 | G31: =[1]前十后十处理!S37 -> 天府文旅 | H31: =[1]前十后十处理!T37 -> 良品铺子
C32: =[1]前十后十处理!O38 -> 中国银行 | D32: =[1]前十后十处理!P38 -> 众诚科技 | E32: =[1]前十后十处理!Q38 -> 前进科技 | F32: =[1]前十后十处理!R38 -> 大普微 | G32: =[1]前十后十处理!S38 -> 华媒控股 | H32: =[1]前十后十处理!T38 -> 浙江鼎力
C33: =[1]前十后十处理!O39 -> 山东高速 | D33: =[1]前十后十处理!P39 -> 格林生物 | E33: =[1]前十后十处理!Q39 -> 博迅生物 | F33: =[1]前十后十处理!R39 -> 鸿仕达 | G33: =[1]前十后十处理!S39 -> 凤凰股份 | H33: =[1]前十后十处理!T39 -> 赛伍技术
C34: =[1]前十后十处理!O40 -> 青岛港 | D34: =[1]前十后十处理!P40 -> 鸿仕达 | E34: =[1]前十后十处理!Q40 -> 三友科技 | F34: =[1]前十后十处理!R40 -> 泰金新能 | G34: =[1]前十后十处理!S40 -> 吉鑫科技 | H34: =[1]前十后十处理!T40 -> 渤海轮渡
C35: =[1]前十后十处理!O41 -> 工商银行 | D35: =[1]前十后十处理!P41 -> 远大健科 | E35: =[1]前十后十处理!Q41 -> 欧普泰 | F35: =[1]前十后十处理!R41 -> 润建股份 | G35: =[1]前十后十处理!S41 -> 宁波海运 | H35: =[1]前十后十处理!T41 -> 辽港股份
C36: =[1]前十后十处理!O42 -> 恒合股份 | D36: =[1]前十后十处理!P42 -> 新华传媒 | E36: =[1]前十后十处理!Q42 -> 海希通讯 | F36: =[1]前十后十处理!R42 -> 光华科技 | G36: =[1]前十后十处理!S42 -> 新力金融 | H36: =[1]前十后十处理!T42 -> 中远海发
A37: 说明：1.以上普通交易数据和信用交易数据皆以交易日收盘后数据为基准；2.上述标的证券总数据只计算标的证券市场总数据，不包括从标的证券中调出去标的证券数据，所以与交易所公布的总值略有不同； 3.上述行业采用申万一级行业分类；4.以上标的基金和标的个股中比较的6个指标值中：前5个（从左至右）为正向指标，值越大排名越靠前；第6个为逆向指标，值越小，排名越靠前；5.第6个指标中ABS[]表示求绝对值，其主要用于考量信用资金相对净流入对股价相对净变化的贡献程度；6.数据来源：iFinD金融数据。
E40: 融资余额增幅前10
E41: 证券代码 | F41: 融资余额 | G41: 新增融资余额 | H41: 融资余额增幅（%）
C42: 1 | D42: 万科A | E42: 000002.SZ | F42: 226019.69 | G42: 0 | H42: 0
C43: 2 | D43: 深振业A | E43: 000006.SZ | F43: 65686.049 | G43: 0 | H43: 0
C44: 3 | D44: 神州高铁 | E44: 000008.SZ | F44: 20218.794 | G44: 0 | H44: 0
C45: 4 | D45: 中国宝安 | E45: 000009.SZ | F45: 181186.52 | G45: 0 | H45: 0
C46: 5 | D46: 深科技 | E46: 000021.SZ | F46: 248547.72 | G46: 0 | H46: 0
C47: 6 | D47: 特力A | E47: 000025.SZ | F47: 24516.147 | G47: 0 | H47: 0
C48: 7 | D48: 深圳能源 | E48: 000027.SZ | F48: 48659.213 | G48: 0 | H48: 0
C49: 8 | D49: 国药一致 | E49: 000028.SZ | F49: 22008.101 | G49: 0 | H49: 0
C50: 9 | D50: 深桑达A | E50: 000032.SZ | F50: 68665.327 | G50: 0 | H50: 0
C51: 10 | D51: 神州数码 | E51: 000034.SZ | F51: 156512.57 | G51: 0 | H51: 0

Sheet 异动股跟踪
A1: 异动股跟踪
A2: 证券代码 | B2: 股票名称 | C2: 调入日期 | D2: 46318 | E2: 46321 | F2: 46322 | G2: 46323 | H2: 46324
A3: 002307 | B3: 北新路桥 | C3: 46317 | D3: - | E3: + | F3: + | G3: + | H3: +
A4: 688056 | B4: 莱伯泰科 | C4: 46317 | D4: - | E4: + | F4: - | G4: + | H4: +
A15: 1、+表示融资融券净余额增加； - 表示融资融券净余额减少。其中融资融券净余额=融资余额净增额-融券余额净增额
A16: 2、数据来源：iFind金融数据
